BEGIN:VCALENDAR
VERSION:2.0
PRODID:-//Orlando Family Stage - ECPv6.15.18//NONSGML v1.0//EN
CALSCALE:GREGORIAN
METHOD:PUBLISH
X-ORIGINAL-URL:https://orlandofamilystage.com
X-WR-CALDESC:Events for Orlando Family Stage
REFRESH-INTERVAL;VALUE=DURATION:PT1H
X-Robots-Tag:noindex
X-PUBLISHED-TTL:PT1H
BEGIN:VTIMEZONE
TZID:America/New_York
BEGIN:DAYLIGHT
TZOFFSETFROM:-0500
TZOFFSETTO:-0400
TZNAME:EDT
DTSTART:20230312T070000
END:DAYLIGHT
BEGIN:STANDARD
TZOFFSETFROM:-0400
TZOFFSETTO:-0500
TZNAME:EST
DTSTART:20231105T060000
END:STANDARD
BEGIN:DAYLIGHT
TZOFFSETFROM:-0500
TZOFFSETTO:-0400
TZNAME:EDT
DTSTART:20240310T070000
END:DAYLIGHT
BEGIN:STANDARD
TZOFFSETFROM:-0400
TZOFFSETTO:-0500
TZNAME:EST
DTSTART:20241103T060000
END:STANDARD
BEGIN:DAYLIGHT
TZOFFSETFROM:-0500
TZOFFSETTO:-0400
TZNAME:EDT
DTSTART:20250309T070000
END:DAYLIGHT
BEGIN:STANDARD
TZOFFSETFROM:-0400
TZOFFSETTO:-0500
TZNAME:EST
DTSTART:20251102T060000
END:STANDARD
END:VTIMEZONE
BEGIN:VEVENT
DTSTART;TZID=America/New_York:20240720T140000
DTEND;TZID=America/New_York:20240720T140000
DTSTAMP:20260419T155137
CREATED:20240528T170638Z
LAST-MODIFIED:20240720T185106Z
UID:22112-1721484000-1721484000@orlandofamilystage.com
SUMMARY:The SpongeBob Musical: Youth Edition
DESCRIPTION:
URL:https://orlandofamilystage.com/event/the-spongebob-musical-youth-edition/
END:VEVENT
BEGIN:VEVENT
DTSTART;TZID=America/New_York:20240720T190000
DTEND;TZID=America/New_York:20240720T190000
DTSTAMP:20260419T155137
CREATED:20240528T170640Z
LAST-MODIFIED:20240528T170640Z
UID:22115-1721502000-1721502000@orlandofamilystage.com
SUMMARY:The SpongeBob Musical: Youth Edition
DESCRIPTION:
URL:https://orlandofamilystage.com/event/the-spongebob-musical-youth-edition-3/
END:VEVENT
BEGIN:VEVENT
DTSTART;TZID=America/New_York:20240721T140000
DTEND;TZID=America/New_York:20240721T140000
DTSTAMP:20260419T155137
CREATED:20240528T170641Z
LAST-MODIFIED:20240528T170641Z
UID:22116-1721570400-1721570400@orlandofamilystage.com
SUMMARY:The SpongeBob Musical: Youth Edition
DESCRIPTION:
URL:https://orlandofamilystage.com/event/the-spongebob-musical-youth-edition-4/
END:VEVENT
BEGIN:VEVENT
DTSTART;TZID=America/New_York:20240726T190000
DTEND;TZID=America/New_York:20240726T190000
DTSTAMP:20260419T155137
CREATED:20240528T170641Z
LAST-MODIFIED:20240528T170641Z
UID:22117-1722020400-1722020400@orlandofamilystage.com
SUMMARY:The SpongeBob Musical: Youth Edition
DESCRIPTION:
URL:https://orlandofamilystage.com/event/the-spongebob-musical-youth-edition-5/
END:VEVENT
BEGIN:VEVENT
DTSTART;TZID=America/New_York:20240727T140000
DTEND;TZID=America/New_York:20240727T140000
DTSTAMP:20260419T155137
CREATED:20240528T170642Z
LAST-MODIFIED:20240528T170642Z
UID:22118-1722088800-1722088800@orlandofamilystage.com
SUMMARY:The SpongeBob Musical: Youth Edition
DESCRIPTION:
URL:https://orlandofamilystage.com/event/the-spongebob-musical-youth-edition-6/
END:VEVENT
BEGIN:VEVENT
DTSTART;TZID=America/New_York:20240727T190000
DTEND;TZID=America/New_York:20240727T190000
DTSTAMP:20260419T155137
CREATED:20240528T170643Z
LAST-MODIFIED:20240528T170643Z
UID:22119-1722106800-1722106800@orlandofamilystage.com
SUMMARY:The SpongeBob Musical: Youth Edition
DESCRIPTION:
URL:https://orlandofamilystage.com/event/the-spongebob-musical-youth-edition-7/
END:VEVENT
BEGIN:VEVENT
DTSTART;TZID=America/New_York:20240728T140000
DTEND;TZID=America/New_York:20240728T140000
DTSTAMP:20260419T155137
CREATED:20240528T170644Z
LAST-MODIFIED:20240528T170644Z
UID:22120-1722175200-1722175200@orlandofamilystage.com
SUMMARY:The SpongeBob Musical: Youth Edition
DESCRIPTION:
URL:https://orlandofamilystage.com/event/the-spongebob-musical-youth-edition-8/
END:VEVENT
END:VCALENDAR