BEGIN:VCALENDAR
VERSION:2.0
PRODID:-//Orlando Family Stage - ECPv6.15.18//NONSGML v1.0//EN
CALSCALE:GREGORIAN
METHOD:PUBLISH
X-ORIGINAL-URL:https://orlandofamilystage.com
X-WR-CALDESC:Events for Orlando Family Stage
REFRESH-INTERVAL;VALUE=DURATION:PT1H
X-Robots-Tag:noindex
X-PUBLISHED-TTL:PT1H
BEGIN:VTIMEZONE
TZID:America/New_York
BEGIN:DAYLIGHT
TZOFFSETFROM:-0500
TZOFFSETTO:-0400
TZNAME:EDT
DTSTART:20240310T070000
END:DAYLIGHT
BEGIN:STANDARD
TZOFFSETFROM:-0400
TZOFFSETTO:-0500
TZNAME:EST
DTSTART:20241103T060000
END:STANDARD
BEGIN:DAYLIGHT
TZOFFSETFROM:-0500
TZOFFSETTO:-0400
TZNAME:EDT
DTSTART:20250309T070000
END:DAYLIGHT
BEGIN:STANDARD
TZOFFSETFROM:-0400
TZOFFSETTO:-0500
TZNAME:EST
DTSTART:20251102T060000
END:STANDARD
BEGIN:DAYLIGHT
TZOFFSETFROM:-0500
TZOFFSETTO:-0400
TZNAME:EDT
DTSTART:20260308T070000
END:DAYLIGHT
BEGIN:STANDARD
TZOFFSETFROM:-0400
TZOFFSETTO:-0500
TZNAME:EST
DTSTART:20261101T060000
END:STANDARD
END:VTIMEZONE
BEGIN:VEVENT
DTSTART;TZID=America/New_York:20250503T140000
DTEND;TZID=America/New_York:20250503T140000
DTSTAMP:20260419T121948
CREATED:20240722T183530Z
LAST-MODIFIED:20240722T183530Z
UID:22515-1746280800-1746280800@orlandofamilystage.com
SUMMARY:Theatre for the Very Young: Dinosaur Dance Party
DESCRIPTION:
URL:https://orlandofamilystage.com/event/theatre-for-the-very-young-dinosaur-dance-party-13/
END:VEVENT
BEGIN:VEVENT
DTSTART;TZID=America/New_York:20250503T143000
DTEND;TZID=America/New_York:20250503T143000
DTSTAMP:20260419T121948
CREATED:20250224T201827Z
LAST-MODIFIED:20250224T201827Z
UID:23737-1746282600-1746282600@orlandofamilystage.com
SUMMARY:Cyrano de Burger Shack
DESCRIPTION:
URL:https://orlandofamilystage.com/event/cyrano-de-burger-shack-2/
END:VEVENT
BEGIN:VEVENT
DTSTART;TZID=America/New_York:20250503T153000
DTEND;TZID=America/New_York:20250503T153000
DTSTAMP:20260419T121948
CREATED:20240722T183531Z
LAST-MODIFIED:20240722T183531Z
UID:22516-1746286200-1746286200@orlandofamilystage.com
SUMMARY:Theatre for the Very Young: Dinosaur Dance Party
DESCRIPTION:
URL:https://orlandofamilystage.com/event/theatre-for-the-very-young-dinosaur-dance-party-14/
END:VEVENT
BEGIN:VEVENT
DTSTART;TZID=America/New_York:20250503T190000
DTEND;TZID=America/New_York:20250503T190000
DTSTAMP:20260419T121948
CREATED:20250224T201828Z
LAST-MODIFIED:20250224T201828Z
UID:23738-1746298800-1746298800@orlandofamilystage.com
SUMMARY:Cyrano de Burger Shack
DESCRIPTION:
URL:https://orlandofamilystage.com/event/cyrano-de-burger-shack-3/
END:VEVENT
END:VCALENDAR