BEGIN:VCALENDAR
VERSION:2.0
PRODID:-//Orlando Family Stage - ECPv6.15.18//NONSGML v1.0//EN
CALSCALE:GREGORIAN
METHOD:PUBLISH
X-ORIGINAL-URL:https://orlandofamilystage.com
X-WR-CALDESC:Events for Orlando Family Stage
REFRESH-INTERVAL;VALUE=DURATION:PT1H
X-Robots-Tag:noindex
X-PUBLISHED-TTL:PT1H
BEGIN:VTIMEZONE
TZID:America/New_York
BEGIN:DAYLIGHT
TZOFFSETFROM:-0500
TZOFFSETTO:-0400
TZNAME:EDT
DTSTART:20230312T070000
END:DAYLIGHT
BEGIN:STANDARD
TZOFFSETFROM:-0400
TZOFFSETTO:-0500
TZNAME:EST
DTSTART:20231105T060000
END:STANDARD
BEGIN:DAYLIGHT
TZOFFSETFROM:-0500
TZOFFSETTO:-0400
TZNAME:EDT
DTSTART:20240310T070000
END:DAYLIGHT
BEGIN:STANDARD
TZOFFSETFROM:-0400
TZOFFSETTO:-0500
TZNAME:EST
DTSTART:20241103T060000
END:STANDARD
BEGIN:DAYLIGHT
TZOFFSETFROM:-0500
TZOFFSETTO:-0400
TZNAME:EDT
DTSTART:20250309T070000
END:DAYLIGHT
BEGIN:STANDARD
TZOFFSETFROM:-0400
TZOFFSETTO:-0500
TZNAME:EST
DTSTART:20251102T060000
END:STANDARD
END:VTIMEZONE
BEGIN:VEVENT
DTSTART;TZID=America/New_York:20241006T100000
DTEND;TZID=America/New_York:20241006T100000
DTSTAMP:20260419T153810
CREATED:20240722T203702Z
LAST-MODIFIED:20240722T203702Z
UID:22529-1728208800-1728208800@orlandofamilystage.com
SUMMARY:Theatre for the Very Young: Yo\, Ho\, Ho! Let’s Go!
DESCRIPTION:
URL:https://orlandofamilystage.com/event/theatre-for-the-very-young-yo-ho-ho-lets-go-7/
END:VEVENT
BEGIN:VEVENT
DTSTART;TZID=America/New_York:20241006T113000
DTEND;TZID=America/New_York:20241006T113000
DTSTAMP:20260419T153810
CREATED:20240722T203704Z
LAST-MODIFIED:20240722T203704Z
UID:22530-1728214200-1728214200@orlandofamilystage.com
SUMMARY:Theatre for the Very Young: Yo\, Ho\, Ho! Let’s Go!
DESCRIPTION:
URL:https://orlandofamilystage.com/event/theatre-for-the-very-young-yo-ho-ho-lets-go-8/
END:VEVENT
END:VCALENDAR