BEGIN:VCALENDAR
VERSION:2.0
PRODID:-//Orlando Family Stage - ECPv6.15.18//NONSGML v1.0//EN
CALSCALE:GREGORIAN
METHOD:PUBLISH
X-ORIGINAL-URL:https://orlandofamilystage.com
X-WR-CALDESC:Events for Orlando Family Stage
REFRESH-INTERVAL;VALUE=DURATION:PT1H
X-Robots-Tag:noindex
X-PUBLISHED-TTL:PT1H
BEGIN:VTIMEZONE
TZID:America/New_York
BEGIN:DAYLIGHT
TZOFFSETFROM:-0500
TZOFFSETTO:-0400
TZNAME:EDT
DTSTART:20230312T070000
END:DAYLIGHT
BEGIN:STANDARD
TZOFFSETFROM:-0400
TZOFFSETTO:-0500
TZNAME:EST
DTSTART:20231105T060000
END:STANDARD
BEGIN:DAYLIGHT
TZOFFSETFROM:-0500
TZOFFSETTO:-0400
TZNAME:EDT
DTSTART:20240310T070000
END:DAYLIGHT
BEGIN:STANDARD
TZOFFSETFROM:-0400
TZOFFSETTO:-0500
TZNAME:EST
DTSTART:20241103T060000
END:STANDARD
BEGIN:DAYLIGHT
TZOFFSETFROM:-0500
TZOFFSETTO:-0400
TZNAME:EDT
DTSTART:20250309T070000
END:DAYLIGHT
BEGIN:STANDARD
TZOFFSETFROM:-0400
TZOFFSETTO:-0500
TZNAME:EST
DTSTART:20251102T060000
END:STANDARD
END:VTIMEZONE
BEGIN:VEVENT
DTSTART;TZID=America/New_York:20240505T140000
DTEND;TZID=America/New_York:20240505T140000
DTSTAMP:20260419T154119
CREATED:20230703T135100Z
LAST-MODIFIED:20250710T142815Z
UID:18908-1714917600-1714917600@orlandofamilystage.com
SUMMARY:The Lightning Thief: The Percy Jackson Musical
DESCRIPTION:
URL:https://orlandofamilystage.com/event/the-lightning-thief-the-percy-jackson-musical/
END:VEVENT
BEGIN:VEVENT
DTSTART;TZID=America/New_York:20240505T173000
DTEND;TZID=America/New_York:20240505T173000
DTSTAMP:20260419T154119
CREATED:20240320T193931Z
LAST-MODIFIED:20240320T193931Z
UID:21516-1714930200-1714930200@orlandofamilystage.com
SUMMARY:The Lightning Thief: The Percy Jackson Musical
DESCRIPTION:
URL:https://orlandofamilystage.com/event/the-lightning-thief-the-percy-jackson-musical-19/
END:VEVENT
END:VCALENDAR