BEGIN:VCALENDAR
VERSION:2.0
PRODID:-//Orlando Family Stage - ECPv6.15.18//NONSGML v1.0//EN
CALSCALE:GREGORIAN
METHOD:PUBLISH
X-WR-CALNAME:Orlando Family Stage
X-ORIGINAL-URL:https://orlandofamilystage.com
X-WR-CALDESC:Events for Orlando Family Stage
REFRESH-INTERVAL;VALUE=DURATION:PT1H
X-Robots-Tag:noindex
X-PUBLISHED-TTL:PT1H
BEGIN:VTIMEZONE
TZID:America/New_York
BEGIN:DAYLIGHT
TZOFFSETFROM:-0500
TZOFFSETTO:-0400
TZNAME:EDT
DTSTART:20230312T070000
END:DAYLIGHT
BEGIN:STANDARD
TZOFFSETFROM:-0400
TZOFFSETTO:-0500
TZNAME:EST
DTSTART:20231105T060000
END:STANDARD
BEGIN:DAYLIGHT
TZOFFSETFROM:-0500
TZOFFSETTO:-0400
TZNAME:EDT
DTSTART:20240310T070000
END:DAYLIGHT
BEGIN:STANDARD
TZOFFSETFROM:-0400
TZOFFSETTO:-0500
TZNAME:EST
DTSTART:20241103T060000
END:STANDARD
BEGIN:DAYLIGHT
TZOFFSETFROM:-0500
TZOFFSETTO:-0400
TZNAME:EDT
DTSTART:20250309T070000
END:DAYLIGHT
BEGIN:STANDARD
TZOFFSETFROM:-0400
TZOFFSETTO:-0500
TZNAME:EST
DTSTART:20251102T060000
END:STANDARD
END:VTIMEZONE
BEGIN:VEVENT
DTSTART;TZID=America/New_York:20240427T130000
DTEND;TZID=America/New_York:20240427T130000
DTSTAMP:20260421T173334
CREATED:20230809T184142Z
LAST-MODIFIED:20240325T171434Z
UID:19158-1714222800-1714222800@orlandofamilystage.com
SUMMARY:Family Theatre Workshop
DESCRIPTION:
URL:https://orlandofamilystage.com/event/family-theatre-workshop/
END:VEVENT
BEGIN:VEVENT
DTSTART;TZID=America/New_York:20240427T150000
DTEND;TZID=America/New_York:20240427T150000
DTSTAMP:20260421T173334
CREATED:20240320T204756Z
LAST-MODIFIED:20240320T204756Z
UID:21525-1714230000-1714230000@orlandofamilystage.com
SUMMARY:Schoolhouse Rock Live! Jr.
DESCRIPTION:
URL:https://orlandofamilystage.com/event/schoolhouse-rock-live-jr-2/
END:VEVENT
BEGIN:VEVENT
DTSTART;TZID=America/New_York:20240427T190000
DTEND;TZID=America/New_York:20240427T190000
DTSTAMP:20260421T173334
CREATED:20240320T204757Z
LAST-MODIFIED:20240320T204757Z
UID:21526-1714244400-1714244400@orlandofamilystage.com
SUMMARY:Schoolhouse Rock Live! Jr.
DESCRIPTION:
URL:https://orlandofamilystage.com/event/schoolhouse-rock-live-jr-3/
END:VEVENT
END:VCALENDAR