BEGIN:VCALENDAR
VERSION:2.0
PRODID:-//Orlando Family Stage - ECPv6.15.18//NONSGML v1.0//EN
CALSCALE:GREGORIAN
METHOD:PUBLISH
X-ORIGINAL-URL:https://orlandofamilystage.com
X-WR-CALDESC:Events for Orlando Family Stage
REFRESH-INTERVAL;VALUE=DURATION:PT1H
X-Robots-Tag:noindex
X-PUBLISHED-TTL:PT1H
BEGIN:VTIMEZONE
TZID:America/New_York
BEGIN:DAYLIGHT
TZOFFSETFROM:-0500
TZOFFSETTO:-0400
TZNAME:EDT
DTSTART:20230312T070000
END:DAYLIGHT
BEGIN:STANDARD
TZOFFSETFROM:-0400
TZOFFSETTO:-0500
TZNAME:EST
DTSTART:20231105T060000
END:STANDARD
BEGIN:DAYLIGHT
TZOFFSETFROM:-0500
TZOFFSETTO:-0400
TZNAME:EDT
DTSTART:20240310T070000
END:DAYLIGHT
BEGIN:STANDARD
TZOFFSETFROM:-0400
TZOFFSETTO:-0500
TZNAME:EST
DTSTART:20241103T060000
END:STANDARD
BEGIN:DAYLIGHT
TZOFFSETFROM:-0500
TZOFFSETTO:-0400
TZNAME:EDT
DTSTART:20250309T070000
END:DAYLIGHT
BEGIN:STANDARD
TZOFFSETFROM:-0400
TZOFFSETTO:-0500
TZNAME:EST
DTSTART:20251102T060000
END:STANDARD
END:VTIMEZONE
BEGIN:VEVENT
DTSTART;TZID=America/New_York:20240225T103000
DTEND;TZID=America/New_York:20240225T103000
DTSTAMP:20260419T154003
CREATED:20240206T123910Z
LAST-MODIFIED:20240206T123910Z
UID:20984-1708857000-1708857000@orlandofamilystage.com
SUMMARY:Giraffes Can't Dance\, The Musical
DESCRIPTION:
URL:https://orlandofamilystage.com/event/giraffes-cant-dance-the-musical-14/
END:VEVENT
BEGIN:VEVENT
DTSTART;TZID=America/New_York:20240225T103000
DTEND;TZID=America/New_York:20240225T103000
DTSTAMP:20260419T154003
CREATED:20240206T174610Z
LAST-MODIFIED:20240206T174610Z
UID:21028-1708857000-1708857000@orlandofamilystage.com
SUMMARY:Giraffes Can't Dance\, The Musical
DESCRIPTION:
URL:https://orlandofamilystage.com/event/giraffes-cant-dance-the-musical-30/
END:VEVENT
BEGIN:VEVENT
DTSTART;TZID=America/New_York:20240225T103000
DTEND;TZID=America/New_York:20240225T103000
DTSTAMP:20260419T154003
CREATED:20240206T174745Z
LAST-MODIFIED:20240206T174745Z
UID:21044-1708857000-1708857000@orlandofamilystage.com
SUMMARY:Giraffes Can't Dance\, The Musical
DESCRIPTION:
URL:https://orlandofamilystage.com/event/giraffes-cant-dance-the-musical-45/
END:VEVENT
BEGIN:VEVENT
DTSTART;TZID=America/New_York:20240225T140000
DTEND;TZID=America/New_York:20240225T140000
DTSTAMP:20260419T154003
CREATED:20240206T123910Z
LAST-MODIFIED:20240206T123910Z
UID:20985-1708869600-1708869600@orlandofamilystage.com
SUMMARY:Giraffes Can't Dance\, The Musical
DESCRIPTION:
URL:https://orlandofamilystage.com/event/giraffes-cant-dance-the-musical-15/
END:VEVENT
BEGIN:VEVENT
DTSTART;TZID=America/New_York:20240225T140000
DTEND;TZID=America/New_York:20240225T140000
DTSTAMP:20260419T154003
CREATED:20240206T174610Z
LAST-MODIFIED:20240206T174610Z
UID:21029-1708869600-1708869600@orlandofamilystage.com
SUMMARY:Giraffes Can't Dance\, The Musical
DESCRIPTION:
URL:https://orlandofamilystage.com/event/giraffes-cant-dance-the-musical-31/
END:VEVENT
BEGIN:VEVENT
DTSTART;TZID=America/New_York:20240225T140000
DTEND;TZID=America/New_York:20240225T140000
DTSTAMP:20260419T154003
CREATED:20240206T174745Z
LAST-MODIFIED:20240206T174745Z
UID:21045-1708869600-1708869600@orlandofamilystage.com
SUMMARY:Giraffes Can't Dance\, The Musical
DESCRIPTION:
URL:https://orlandofamilystage.com/event/giraffes-cant-dance-the-musical-46/
END:VEVENT
BEGIN:VEVENT
DTSTART;TZID=America/New_York:20240225T160000
DTEND;TZID=America/New_York:20240225T160000
DTSTAMP:20260419T154003
CREATED:20240313T212412Z
LAST-MODIFIED:20240313T212412Z
UID:21453-1708876800-1708876800@orlandofamilystage.com
SUMMARY:MAC Boys Entertainment's Ruined
DESCRIPTION:
URL:https://orlandofamilystage.com/event/mac-boys-entertainments-ruined-3/
END:VEVENT
END:VCALENDAR